Package: spiky Version: 1.13.0 Command: chmod a+r spiky -R && E:\biocbuild\bbs-3.21-bioc\R\bin\R.exe CMD build --keep-empty-dirs --no-resave-data spiky StartedAt: 2025-02-03 22:03:51 -0500 (Mon, 03 Feb 2025) EndedAt: 2025-02-03 22:06:47 -0500 (Mon, 03 Feb 2025) EllapsedTime: 175.9 seconds RetCode: 0 Status: OK PackageFile: spiky_1.13.0.tar.gz PackageFileSize: 14.31 MiB