Package: spiky Version: 1.13.0 Command: E:\biocbuild\bbs-3.21-bioc\R\bin\R.exe CMD check --no-multiarch --install=check:spiky.install-out.txt --library=E:\biocbuild\bbs-3.21-bioc\R\library --no-vignettes --timings spiky_1.13.0.tar.gz StartedAt: 2025-02-04 06:12:45 -0500 (Tue, 04 Feb 2025) EndedAt: 2025-02-04 06:18:55 -0500 (Tue, 04 Feb 2025) EllapsedTime: 369.8 seconds RetCode: 0 Status: OK CheckDir: spiky.Rcheck Warnings: 0