Package: spillR Version: 1.3.0 Command: /home/biocbuild/bbs-3.21-bioc/R/bin/R CMD check --install=check:spillR.install-out.txt --library=/home/biocbuild/bbs-3.21-bioc/R/site-library --timings spillR_1.3.0.tar.gz StartedAt: 2025-02-13 02:59:35 -0500 (Thu, 13 Feb 2025) EndedAt: 2025-02-13 03:08:03 -0500 (Thu, 13 Feb 2025) EllapsedTime: 507.6 seconds RetCode: 0 Status: OK CheckDir: spillR.Rcheck Warnings: 0