Package: spillR Version: 1.3.0 Command: chmod a+r spillR -R && E:\biocbuild\bbs-3.21-bioc\R\bin\R.exe CMD build --keep-empty-dirs --no-resave-data spillR StartedAt: 2025-02-09 21:51:33 -0500 (Sun, 09 Feb 2025) EndedAt: 2025-02-09 21:54:49 -0500 (Sun, 09 Feb 2025) EllapsedTime: 196.4 seconds RetCode: 0 Status: OK PackageFile: spillR_1.3.0.tar.gz PackageFileSize: 296.8 KiB