Package: spillR Version: 1.3.0 Command: E:\biocbuild\bbs-3.21-bioc\R\bin\R.exe CMD check --no-multiarch --install=check:spillR.install-out.txt --library=E:\biocbuild\bbs-3.21-bioc\R\library --no-vignettes --timings spillR_1.3.0.tar.gz StartedAt: 2025-02-10 05:46:55 -0500 (Mon, 10 Feb 2025) EndedAt: 2025-02-10 05:55:11 -0500 (Mon, 10 Feb 2025) EllapsedTime: 496.3 seconds RetCode: 0 Status: OK CheckDir: spillR.Rcheck Warnings: 0