Package: splineTimeR Version: 1.35.0 Command: rm -rf splineTimeR.buildbin-libdir && mkdir splineTimeR.buildbin-libdir && /Users/biocbuild/BBS/utils/build-universal.sh splineTimeR_1.35.0.tar.gz /Library/Frameworks/R.framework/Resources/bin/R splineTimeR.buildbin-libdir StartedAt: 2025-02-12 22:37:24 -0500 (Wed, 12 Feb 2025) EndedAt: 2025-02-12 22:37:31 -0500 (Wed, 12 Feb 2025) EllapsedTime: 7.1 seconds RetCode: 0 Status: OK PackageFile: splineTimeR_1.35.0.tgz PackageFileSize: 1.267 MiB