Package: splineTimeR Version: 1.35.0 Command: rm -rf splineTimeR.buildbin-libdir && mkdir splineTimeR.buildbin-libdir && /Users/biocbuild/BBS/utils/build-universal.sh splineTimeR_1.35.0.tar.gz /Library/Frameworks/R.framework/Resources/bin/R splineTimeR.buildbin-libdir StartedAt: 2025-02-13 01:00:59 -0500 (Thu, 13 Feb 2025) EndedAt: 2025-02-13 01:01:22 -0500 (Thu, 13 Feb 2025) EllapsedTime: 23.2 seconds RetCode: 0 Status: OK PackageFile: splineTimeR_1.35.0.tgz PackageFileSize: 1.268 MiB