Package: splineTimeR Version: 1.35.0 Command: /Library/Frameworks/R.framework/Resources/bin/R CMD build --keep-empty-dirs --no-resave-data splineTimeR StartedAt: 2025-02-12 18:28:00 -0500 (Wed, 12 Feb 2025) EndedAt: 2025-02-12 18:28:48 -0500 (Wed, 12 Feb 2025) EllapsedTime: 47.9 seconds RetCode: 0 Status: OK PackageFile: splineTimeR_1.35.0.tar.gz PackageFileSize: 1.226 MiB