Package: splineTimeR Version: 1.35.0 Command: /home/biocbuild/bbs-3.21-bioc/R/bin/R CMD build --keep-empty-dirs --no-resave-data splineTimeR StartedAt: 2025-02-12 19:22:10 -0500 (Wed, 12 Feb 2025) EndedAt: 2025-02-12 19:22:49 -0500 (Wed, 12 Feb 2025) EllapsedTime: 39.0 seconds RetCode: 0 Status: OK PackageFile: splineTimeR_1.35.0.tar.gz PackageFileSize: 1.224 MiB