Package: splineTimeR Version: 1.35.0 Command: /home/biocbuild/bbs-3.21-bioc/R/bin/R CMD INSTALL splineTimeR StartedAt: 2025-02-09 15:29:01 -0500 (Sun, 09 Feb 2025) EndedAt: 2025-02-09 15:29:17 -0500 (Sun, 09 Feb 2025) EllapsedTime: 15.6 seconds RetCode: 0 Status: OK