Package: splineTimeR Version: 1.35.0 Command: chmod a+r splineTimeR -R && E:\biocbuild\bbs-3.21-bioc\R\bin\R.exe CMD build --keep-empty-dirs --no-resave-data splineTimeR StartedAt: 2025-02-09 21:52:03 -0500 (Sun, 09 Feb 2025) EndedAt: 2025-02-09 21:53:18 -0500 (Sun, 09 Feb 2025) EllapsedTime: 75.1 seconds RetCode: 0 Status: OK PackageFile: splineTimeR_1.35.0.tar.gz PackageFileSize: 1.104 MiB