Package: splineTimeR Version: 1.35.0 Command: E:\biocbuild\bbs-3.21-bioc\R\bin\R.exe CMD check --no-multiarch --install=check:splineTimeR.install-out.txt --library=E:\biocbuild\bbs-3.21-bioc\R\library --no-vignettes --timings splineTimeR_1.35.0.tar.gz StartedAt: 2025-02-13 06:00:12 -0500 (Thu, 13 Feb 2025) EndedAt: 2025-02-13 06:03:25 -0500 (Thu, 13 Feb 2025) EllapsedTime: 193.1 seconds RetCode: 0 Status: OK CheckDir: splineTimeR.Rcheck Warnings: 0