Package: splineTimeR Version: 1.35.0 Command: E:\biocbuild\bbs-3.21-bioc\R\bin\R.exe CMD INSTALL splineTimeR StartedAt: 2025-02-09 15:48:40 -0500 (Sun, 09 Feb 2025) EndedAt: 2025-02-09 15:49:02 -0500 (Sun, 09 Feb 2025) EllapsedTime: 22.4 seconds RetCode: 0 Status: OK