Package: spoon Version: 1.3.1 Command: rm -rf spoon.buildbin-libdir && mkdir spoon.buildbin-libdir && /Users/biocbuild/BBS/utils/build-universal.sh spoon_1.3.1.tar.gz /Library/Frameworks/R.framework/Resources/bin/R spoon.buildbin-libdir StartedAt: 2025-01-21 22:43:51 -0500 (Tue, 21 Jan 2025) EndedAt: 2025-01-21 22:44:01 -0500 (Tue, 21 Jan 2025) EllapsedTime: 10.3 seconds RetCode: 0 Status: OK PackageFile: spoon_1.3.1.tgz PackageFileSize: 318.2 KiB