Package: spoon Version: 1.3.1 Command: /Library/Frameworks/R.framework/Resources/bin/R CMD build --keep-empty-dirs --no-resave-data spoon StartedAt: 2025-02-04 17:43:30 -0500 (Tue, 04 Feb 2025) EndedAt: 2025-02-04 17:43:53 -0500 (Tue, 04 Feb 2025) EllapsedTime: 23.3 seconds RetCode: 1 Status: ERROR PackageFile: None PackageFileSize: NA