Package: spoon Version: 1.3.1 Command: /home/biocbuild/R/R/bin/R CMD build --keep-empty-dirs --no-resave-data spoon StartedAt: 2025-01-28 02:42:28 -0000 (Tue, 28 Jan 2025) EndedAt: 2025-01-28 02:45:09 -0000 (Tue, 28 Jan 2025) EllapsedTime: 161.1 seconds RetCode: 0 Status: OK PackageFile: spoon_1.3.1.tar.gz PackageFileSize: 524.4 KiB