Package: spoon Version: 1.3.1 Command: /home/biocbuild/R/R/bin/R CMD INSTALL spoon StartedAt: 2025-01-29 19:50:51 -0000 (Wed, 29 Jan 2025) EndedAt: 2025-01-29 19:51:22 -0000 (Wed, 29 Jan 2025) EllapsedTime: 31.2 seconds RetCode: 0 Status: OK