Package: spoon Version: 1.3.1 Command: rm -rf spoon.buildbin-libdir && mkdir spoon.buildbin-libdir && /Users/biocbuild/BBS/utils/build-universal.sh spoon_1.3.1.tar.gz /Library/Frameworks/R.framework/Resources/bin/R spoon.buildbin-libdir StartedAt: 2025-01-22 01:16:54 -0500 (Wed, 22 Jan 2025) EndedAt: 2025-01-22 01:17:27 -0500 (Wed, 22 Jan 2025) EllapsedTime: 33.0 seconds RetCode: 0 Status: OK PackageFile: spoon_1.3.1.tgz PackageFileSize: 318.1 KiB