Package: spoon Version: 1.3.1 Command: /Library/Frameworks/R.framework/Resources/bin/R CMD check --install=check:spoon.install-out.txt --library=/Library/Frameworks/R.framework/Resources/library --no-vignettes --timings spoon_1.3.1.tar.gz StartedAt: 2025-01-21 23:50:32 -0500 (Tue, 21 Jan 2025) EndedAt: 2025-01-21 23:58:33 -0500 (Tue, 21 Jan 2025) EllapsedTime: 481.2 seconds RetCode: 0 Status: OK CheckDir: spoon.Rcheck Warnings: 0