Package: spoon Version: 1.3.1 Command: /Library/Frameworks/R.framework/Resources/bin/R CMD INSTALL spoon StartedAt: 2025-02-09 15:16:58 -0500 (Sun, 09 Feb 2025) EndedAt: 2025-02-09 15:17:30 -0500 (Sun, 09 Feb 2025) EllapsedTime: 32.0 seconds RetCode: 0 Status: OK