Package: spoon Version: 1.3.1 Command: /home/biocbuild/bbs-3.21-bioc/R/bin/R CMD build --keep-empty-dirs --no-resave-data spoon StartedAt: 2025-02-09 19:26:53 -0500 (Sun, 09 Feb 2025) EndedAt: 2025-02-09 19:27:55 -0500 (Sun, 09 Feb 2025) EllapsedTime: 62.0 seconds RetCode: 1 Status: ERROR PackageFile: None PackageFileSize: NA