Package: spoon Version: 1.3.1 Command: chmod a+r spoon -R && E:\biocbuild\bbs-3.21-bioc\R\bin\R.exe CMD build --keep-empty-dirs --no-resave-data spoon StartedAt: 2025-02-04 21:55:03 -0500 (Tue, 04 Feb 2025) EndedAt: 2025-02-04 21:56:22 -0500 (Tue, 04 Feb 2025) EllapsedTime: 78.3 seconds RetCode: 1 Status: ERROR PackageFile: None PackageFileSize: NA