Package: spoon Version: 1.3.1 Command: E:\biocbuild\bbs-3.21-bioc\R\bin\R.exe CMD check --no-multiarch --install=check:spoon.install-out.txt --library=E:\biocbuild\bbs-3.21-bioc\R\library --no-vignettes --timings spoon_1.3.1.tar.gz StartedAt: 2025-01-22 05:50:25 -0500 (Wed, 22 Jan 2025) EndedAt: 2025-01-22 06:00:09 -0500 (Wed, 22 Jan 2025) EllapsedTime: 583.7 seconds RetCode: 0 Status: OK CheckDir: spoon.Rcheck Warnings: 0