Package: spqn Version: 1.19.0 Command: E:\biocbuild\bbs-3.21-bioc\R\bin\R.exe CMD INSTALL spqn StartedAt: 2025-02-12 16:11:36 -0500 (Wed, 12 Feb 2025) EndedAt: 2025-02-12 16:12:02 -0500 (Wed, 12 Feb 2025) EllapsedTime: 25.2 seconds RetCode: 0 Status: OK