Package: srnadiff Version: 1.27.3 Command: rm -rf srnadiff.buildbin-libdir && mkdir srnadiff.buildbin-libdir && /Users/biocbuild/BBS/utils/build-universal.sh srnadiff_1.27.3.tar.gz /Library/Frameworks/R.framework/Resources/bin/R srnadiff.buildbin-libdir StartedAt: 2025-02-09 22:32:28 -0500 (Sun, 09 Feb 2025) EndedAt: 2025-02-09 22:32:56 -0500 (Sun, 09 Feb 2025) EllapsedTime: 28.7 seconds RetCode: 0 Status: OK PackageFile: srnadiff_1.27.3.tgz PackageFileSize: 2.898 MiB