Package: srnadiff Version: 1.27.3 Command: /Library/Frameworks/R.framework/Resources/bin/R CMD check --install=check:srnadiff.install-out.txt --library=/Library/Frameworks/R.framework/Resources/library --no-vignettes --timings srnadiff_1.27.3.tar.gz StartedAt: 2025-02-09 21:36:09 -0500 (Sun, 09 Feb 2025) EndedAt: 2025-02-09 21:39:10 -0500 (Sun, 09 Feb 2025) EllapsedTime: 181.2 seconds RetCode: 0 Status: WARNINGS CheckDir: srnadiff.Rcheck Warnings: 1