Package: srnadiff Version: 1.27.3 Command: /Library/Frameworks/R.framework/Resources/bin/R CMD INSTALL srnadiff StartedAt: 2025-02-09 15:17:23 -0500 (Sun, 09 Feb 2025) EndedAt: 2025-02-09 15:17:50 -0500 (Sun, 09 Feb 2025) EllapsedTime: 26.7 seconds RetCode: 0 Status: OK