Package: srnadiff Version: 1.27.3 Command: rm -rf srnadiff.buildbin-libdir && mkdir srnadiff.buildbin-libdir && /Users/biocbuild/BBS/utils/build-universal.sh srnadiff_1.27.3.tar.gz /Library/Frameworks/R.framework/Resources/bin/R srnadiff.buildbin-libdir StartedAt: 2025-02-13 01:01:08 -0500 (Thu, 13 Feb 2025) EndedAt: 2025-02-13 01:02:43 -0500 (Thu, 13 Feb 2025) EllapsedTime: 94.9 seconds RetCode: 0 Status: OK PackageFile: srnadiff_1.27.3.tgz PackageFileSize: 2.902 MiB