Package: srnadiff Version: 1.27.3 Command: /Library/Frameworks/R.framework/Resources/bin/R CMD build --keep-empty-dirs --no-resave-data srnadiff StartedAt: 2025-02-12 18:29:21 -0500 (Wed, 12 Feb 2025) EndedAt: 2025-02-12 18:31:38 -0500 (Wed, 12 Feb 2025) EllapsedTime: 136.9 seconds RetCode: 0 Status: OK PackageFile: srnadiff_1.27.3.tar.gz PackageFileSize: 2.425 MiB