Package: srnadiff Version: 1.27.3 Command: /home/biocbuild/bbs-3.21-bioc/R/bin/R CMD build --keep-empty-dirs --no-resave-data srnadiff StartedAt: 2025-02-09 19:28:34 -0500 (Sun, 09 Feb 2025) EndedAt: 2025-02-09 19:30:44 -0500 (Sun, 09 Feb 2025) EllapsedTime: 130.2 seconds RetCode: 0 Status: OK PackageFile: srnadiff_1.27.3.tar.gz PackageFileSize: 2.433 MiB