Package: srnadiff Version: 1.27.3 Command: /home/biocbuild/bbs-3.21-bioc/R/bin/R CMD INSTALL srnadiff StartedAt: 2025-02-09 15:48:30 -0500 (Sun, 09 Feb 2025) EndedAt: 2025-02-09 15:49:48 -0500 (Sun, 09 Feb 2025) EllapsedTime: 77.9 seconds RetCode: 0 Status: OK