Package: srnadiff Version: 1.27.3 Command: rm -rf srnadiff.buildbin-libdir && mkdir srnadiff.buildbin-libdir && E:\biocbuild\bbs-3.21-bioc\R\bin\R.exe CMD INSTALL --build --library=srnadiff.buildbin-libdir srnadiff_1.27.3.tar.gz StartedAt: 2025-02-10 08:48:31 -0500 (Mon, 10 Feb 2025) EndedAt: 2025-02-10 08:50:10 -0500 (Mon, 10 Feb 2025) EllapsedTime: 98.9 seconds RetCode: 0 Status: OK PackageFile: srnadiff_1.27.3.zip PackageFileSize: 3.204 MiB