Package: srnadiff Version: 1.27.3 Command: chmod a+r srnadiff -R && E:\biocbuild\bbs-3.21-bioc\R\bin\R.exe CMD build --keep-empty-dirs --no-resave-data srnadiff StartedAt: 2025-02-09 21:55:35 -0500 (Sun, 09 Feb 2025) EndedAt: 2025-02-09 21:59:56 -0500 (Sun, 09 Feb 2025) EllapsedTime: 261.3 seconds RetCode: 0 Status: OK PackageFile: srnadiff_1.27.3.tar.gz PackageFileSize: 2.418 MiB