Package: srnadiff Version: 1.27.3 Command: E:\biocbuild\bbs-3.21-bioc\R\bin\R.exe CMD check --no-multiarch --install=check:srnadiff.install-out.txt --library=E:\biocbuild\bbs-3.21-bioc\R\library --no-vignettes --timings srnadiff_1.27.3.tar.gz StartedAt: 2025-02-10 05:53:14 -0500 (Mon, 10 Feb 2025) EndedAt: 2025-02-10 06:15:21 -0500 (Mon, 10 Feb 2025) EllapsedTime: 1327.6 seconds RetCode: 0 Status: WARNINGS CheckDir: srnadiff.Rcheck Warnings: 1