Package: ssPATHS Version: 1.21.0 Command: /Library/Frameworks/R.framework/Resources/bin/R CMD INSTALL ssPATHS StartedAt: 2025-02-09 15:23:11 -0500 (Sun, 09 Feb 2025) EndedAt: 2025-02-09 15:23:20 -0500 (Sun, 09 Feb 2025) EllapsedTime: 9.2 seconds RetCode: 0 Status: OK