Package: ssPATHS Version: 1.21.0 Command: /home/biocbuild/R/R/bin/R CMD INSTALL ssPATHS StartedAt: 2025-01-29 20:23:42 -0000 (Wed, 29 Jan 2025) EndedAt: 2025-01-29 20:24:13 -0000 (Wed, 29 Jan 2025) EllapsedTime: 31.5 seconds RetCode: 0 Status: OK