Package: ssPATHS Version: 1.21.0 Command: /Library/Frameworks/R.framework/Resources/bin/R CMD INSTALL ssPATHS StartedAt: 2025-02-09 15:36:38 -0500 (Sun, 09 Feb 2025) EndedAt: 2025-02-09 15:37:10 -0500 (Sun, 09 Feb 2025) EllapsedTime: 31.8 seconds RetCode: 0 Status: OK