Package: ssPATHS Version: 1.21.0 Command: /home/biocbuild/bbs-3.21-bioc/R/bin/R CMD INSTALL ssPATHS StartedAt: 2025-02-09 15:21:14 -0500 (Sun, 09 Feb 2025) EndedAt: 2025-02-09 15:21:38 -0500 (Sun, 09 Feb 2025) EllapsedTime: 23.1 seconds RetCode: 0 Status: OK