Package: ssPATHS Version: 1.21.0 Command: rm -rf ssPATHS.buildbin-libdir && mkdir ssPATHS.buildbin-libdir && E:\biocbuild\bbs-3.21-bioc\R\bin\R.exe CMD INSTALL --build --library=ssPATHS.buildbin-libdir ssPATHS_1.21.0.tar.gz StartedAt: 2025-02-10 08:48:45 -0500 (Mon, 10 Feb 2025) EndedAt: 2025-02-10 08:49:16 -0500 (Mon, 10 Feb 2025) EllapsedTime: 31.7 seconds RetCode: 0 Status: OK PackageFile: ssPATHS_1.21.0.zip PackageFileSize: 3.615 MiB