Package: ssPATHS Version: 1.21.0 Command: chmod a+r ssPATHS -R && E:\biocbuild\bbs-3.21-bioc\R\bin\R.exe CMD build --keep-empty-dirs --no-resave-data ssPATHS StartedAt: 2025-02-09 21:56:22 -0500 (Sun, 09 Feb 2025) EndedAt: 2025-02-09 21:57:33 -0500 (Sun, 09 Feb 2025) EllapsedTime: 70.8 seconds RetCode: 0 Status: OK PackageFile: ssPATHS_1.21.0.tar.gz PackageFileSize: 3.581 MiB