Package: sscu Version: 2.37.0 Command: /home/biocbuild/R/R/bin/R CMD INSTALL sscu StartedAt: 2025-01-29 19:37:53 -0000 (Wed, 29 Jan 2025) EndedAt: 2025-01-29 19:38:07 -0000 (Wed, 29 Jan 2025) EllapsedTime: 13.1 seconds RetCode: 0 Status: OK