Package: sscu Version: 2.37.0 Command: /Library/Frameworks/R.framework/Resources/bin/R CMD INSTALL sscu StartedAt: 2025-02-12 15:09:29 -0500 (Wed, 12 Feb 2025) EndedAt: 2025-02-12 15:09:44 -0500 (Wed, 12 Feb 2025) EllapsedTime: 14.5 seconds RetCode: 0 Status: OK