Package: sscu Version: 2.37.0 Command: chmod a+r sscu -R && E:\biocbuild\bbs-3.21-bioc\R\bin\R.exe CMD build --keep-empty-dirs --no-resave-data sscu StartedAt: 2025-02-09 21:55:48 -0500 (Sun, 09 Feb 2025) EndedAt: 2025-02-09 21:56:14 -0500 (Sun, 09 Feb 2025) EllapsedTime: 26.8 seconds RetCode: 0 Status: OK PackageFile: sscu_2.37.0.tar.gz PackageFileSize: 1.287 MiB