Package: ssviz Version: 1.41.0 Command: rm -rf ssviz.buildbin-libdir && mkdir ssviz.buildbin-libdir && E:\biocbuild\bbs-3.21-bioc\R\bin\R.exe CMD INSTALL --build --library=ssviz.buildbin-libdir ssviz_1.41.0.tar.gz StartedAt: 2025-02-10 08:48:49 -0500 (Mon, 10 Feb 2025) EndedAt: 2025-02-10 08:49:15 -0500 (Mon, 10 Feb 2025) EllapsedTime: 25.6 seconds RetCode: 0 Status: OK PackageFile: ssviz_1.41.0.zip PackageFileSize: 976.6 KiB