Package: staRank Version: 1.49.1 Command: /Library/Frameworks/R.framework/Resources/bin/R CMD INSTALL staRank StartedAt: 2025-02-09 15:51:07 -0500 (Sun, 09 Feb 2025) EndedAt: 2025-02-09 15:51:07 -0500 (Sun, 09 Feb 2025) EllapsedTime: 0.3 seconds RetCode: 1 Status: ERROR