Package: standR Version: 1.11.2 Command: /Library/Frameworks/R.framework/Resources/bin/R CMD check --install=check:standR.install-out.txt --library=/Library/Frameworks/R.framework/Resources/library --no-vignettes --timings standR_1.11.2.tar.gz StartedAt: 2025-02-09 21:37:09 -0500 (Sun, 09 Feb 2025) EndedAt: 2025-02-09 21:39:23 -0500 (Sun, 09 Feb 2025) EllapsedTime: 134.6 seconds RetCode: 0 Status: OK CheckDir: standR.Rcheck Warnings: 0