Package: standR Version: 1.11.1 Command: /home/biocbuild/R/R/bin/R CMD check --install=check:standR.install-out.txt --library=/home/biocbuild/R/R/site-library --no-vignettes --timings standR_1.11.1.tar.gz StartedAt: 2025-01-28 15:49:39 -0000 (Tue, 28 Jan 2025) EndedAt: 2025-01-28 15:59:09 -0000 (Tue, 28 Jan 2025) EllapsedTime: 569.8 seconds RetCode: 0 Status: OK CheckDir: standR.Rcheck Warnings: 0