Package: standR Version: 1.11.1 Command: /home/biocbuild/R/R/bin/R CMD INSTALL standR StartedAt: 2025-01-29 20:03:41 -0000 (Wed, 29 Jan 2025) EndedAt: 2025-01-29 20:04:15 -0000 (Wed, 29 Jan 2025) EllapsedTime: 34.3 seconds RetCode: 0 Status: OK