Package: standR Version: 1.11.2 Command: /Library/Frameworks/R.framework/Resources/bin/R CMD build --keep-empty-dirs --no-resave-data standR StartedAt: 2025-02-09 18:38:06 -0500 (Sun, 09 Feb 2025) EndedAt: 2025-02-09 18:39:50 -0500 (Sun, 09 Feb 2025) EllapsedTime: 103.9 seconds RetCode: 0 Status: OK PackageFile: standR_1.11.2.tar.gz PackageFileSize: 2.981 MiB