Package: standR Version: 1.11.2 Command: /Library/Frameworks/R.framework/Resources/bin/R CMD INSTALL standR StartedAt: 2025-02-09 15:26:52 -0500 (Sun, 09 Feb 2025) EndedAt: 2025-02-09 15:27:28 -0500 (Sun, 09 Feb 2025) EllapsedTime: 35.3 seconds RetCode: 0 Status: OK